BEGIN:VCALENDAR
VERSION:2.0
PRODID:Imitheme.com
BEGIN:VEVENT
UID:20260422T122438-690630699
DTSTAMP;TZID=UTC:1776860678
DTSTART:20260422T122438Z
DTEND:19700101T000000Z
SUMMARY:Trade show training - OPEN CLASS
LOCATION:Hans Grade Allee 5, 12529 Berlin-Schönefeld
DESCRIPTION: <!-- wp:paragraph -->
<p>This course is addressed to all level sales representatives. Participants will learn how to prepare for their presence at a tradeshow, how to organise themselves within the booth staff group, how to appraoch and deal with booth visitors. They will learn about the DOs and DONT’s during the exhibition appearance of their company and will take home some usefull hints for an efficient and effective leads follow-up after the show. – Dates upon request.</p>
<!-- /wp:paragraph -->
END:VEVENT
END:VCALENDAR
